BEGIN:VCALENDAR
VERSION:2.0
PRODID:icalendar-ruby
CALSCALE:GREGORIAN
METHOD:PUBLISH
BEGIN:VEVENT
DTSTAMP:20260419T123758Z
UID:http://ksdetasn.org/events/8877
DTSTART:20260424T110000
DTEND:20260424T120000
CLASS:PUBLIC
CREATED:20260417T141751
DESCRIPTION:This roundtable explores the experiences of high-functioning st
 udents with CVI. Discussion will focus on visual challenges and practical 
 strategies to support access to learning.&nbsp\;
LAST-MODIFIED:20260417T141837
LOCATION:
SUMMARY:KSSB's CVI Roundtable Series: Academic/High-Functioning
URL:http://ksdetasn.org/events/8877
END:VEVENT
END:VCALENDAR
