BEGIN:VCALENDAR
VERSION:2.0
PRODID:icalendar-ruby
CALSCALE:GREGORIAN
METHOD:PUBLISH
BEGIN:VEVENT
DTSTAMP:20260420T185050Z
UID:http://ksdetasn.org/events/8881
DTSTART:20270223T090000
DTEND:20270223T120000
CLASS:PUBLIC
CREATED:20260420T095642
DESCRIPTION:Join us to empower students to better self-regulate (see the Se
 lf-Regulation Infographic).This 3-hour virtual training is designed for ed
 ucators who provide individualized instruction and support to students (Gr
 ades K-12). During the training\, participants will learn instructional pr
 actice to teach self-regulation\, strategies for helping students plan\, m
 onitor\, adjust\, and reflect to better achieve their learning goals\, and
  the five-step intervention cycle for individualizing support and monitori
 ng progress. Participants will receive access to training materials and th
 e self-regulation curriculum\, which includes instructional activities and
  assessments for students in K–12.Due to confidentiality\, no recordings
  will be provided after this real-time virtual event.
LAST-MODIFIED:20260420T095709
LOCATION:
SUMMARY:Individualized Supports for Building Self-Regulation (K-12)
URL:http://ksdetasn.org/events/8881
END:VEVENT
END:VCALENDAR
